BEGIN:VCALENDAR
VERSION:2.0
PRODID:-//Vasteras Tiodans. Ballroom &amp; Latin - ECPv6.15.20//NONSGML v1.0//EN
CALSCALE:GREGORIAN
METHOD:PUBLISH
X-WR-CALNAME:Vasteras Tiodans. Ballroom &amp; Latin
X-ORIGINAL-URL:https://vasterastiodans.se
X-WR-CALDESC:Händelser för Vasteras Tiodans. Ballroom &amp; Latin
REFRESH-INTERVAL;VALUE=DURATION:PT1H
X-Robots-Tag:noindex
X-PUBLISHED-TTL:PT1H
BEGIN:VTIMEZONE
TZID:UTC
BEGIN:STANDARD
TZOFFSETFROM:+0000
TZOFFSETTO:+0000
TZNAME:UTC
DTSTART:20250101T000000
END:STANDARD
END:VTIMEZONE
BEGIN:VEVENT
DTSTART;TZID=UTC:20260524T103000
DTEND;TZID=UTC:20260524T112500
DTSTAMP:20260419T153105
CREATED:20260117T093657Z
LAST-MODIFIED:20260117T093657Z
UID:1006-1779618600-1779621900@vasterastiodans.se
SUMMARY:Dansteknikkurs för barn och ungdomar
DESCRIPTION:
URL:https://vasterastiodans.se/event/dansteknikkurs-for-barn-och-ungdomar-12/
LOCATION:Studiefrämjandet\, Pilgatan 8C\, Västerås\, Sweden
CATEGORIES:Kalender
END:VEVENT
BEGIN:VEVENT
DTSTART;TZID=UTC:20260524T103000
DTEND;TZID=UTC:20260524T112500
DTSTAMP:20260419T153105
CREATED:20260415T053158Z
LAST-MODIFIED:20260415T053158Z
UID:1053-1779618600-1779621900@vasterastiodans.se
SUMMARY:Dansteknikkurs för barn och ungdomar
DESCRIPTION:
URL:https://vasterastiodans.se/event/dansteknikkurs-for-barn-och-ungdomar-14/
LOCATION:Studiefrämjandet\, Pilgatan 8C\, Västerås\, Sweden
CATEGORIES:Kalender
END:VEVENT
BEGIN:VEVENT
DTSTART;TZID=UTC:20260529T195000
DTEND;TZID=UTC:20260529T204500
DTSTAMP:20260419T153105
CREATED:20260415T052800Z
LAST-MODIFIED:20260415T052800Z
UID:1049-1780084200-1780087500@vasterastiodans.se
SUMMARY:Fortsättning grupp
DESCRIPTION:
URL:https://vasterastiodans.se/event/fortsattning-grupp-12/
CATEGORIES:Kalender
END:VEVENT
BEGIN:VEVENT
DTSTART;TZID=UTC:20260531T103000
DTEND;TZID=UTC:20260531T112500
DTSTAMP:20260419T153105
CREATED:20260415T053251Z
LAST-MODIFIED:20260415T053251Z
UID:1055-1780223400-1780226700@vasterastiodans.se
SUMMARY:Dansteknikkurs för barn och ungdomar
DESCRIPTION:
URL:https://vasterastiodans.se/event/dansteknikkurs-for-barn-och-ungdomar-15/
LOCATION:Studiefrämjandet\, Pilgatan 8C\, Västerås\, Sweden
CATEGORIES:Kalender
END:VEVENT
BEGIN:VEVENT
DTSTART;TZID=UTC:20260531T153000
DTEND;TZID=UTC:20260531T170000
DTSTAMP:20260419T153105
CREATED:20260415T052408Z
LAST-MODIFIED:20260415T052408Z
UID:1047-1780241400-1780246800@vasterastiodans.se
SUMMARY:Fri-träning/Praktik
DESCRIPTION:
URL:https://vasterastiodans.se/event/fri-traning-praktik/
LOCATION:Gymnastiksal 2 (Gamla)\, Rudbeckianska\, Skolgatan\, Västerås\, Sweden
CATEGORIES:Kalender
END:VEVENT
END:VCALENDAR