BEGIN:VCALENDAR
VERSION:2.0
PRODID:-//Vasteras Tiodans. Ballroom &amp; Latin - ECPv6.15.20//NONSGML v1.0//EN
CALSCALE:GREGORIAN
METHOD:PUBLISH
X-WR-CALNAME:Vasteras Tiodans. Ballroom &amp; Latin
X-ORIGINAL-URL:https://vasterastiodans.se
X-WR-CALDESC:Händelser för Vasteras Tiodans. Ballroom &amp; Latin
REFRESH-INTERVAL;VALUE=DURATION:PT1H
X-Robots-Tag:noindex
X-PUBLISHED-TTL:PT1H
BEGIN:VTIMEZONE
TZID:UTC
BEGIN:STANDARD
TZOFFSETFROM:+0000
TZOFFSETTO:+0000
TZNAME:UTC
DTSTART:20250101T000000
END:STANDARD
END:VTIMEZONE
BEGIN:VEVENT
DTSTART;TZID=UTC:20260419T103000
DTEND;TZID=UTC:20260419T112500
DTSTAMP:20260419T153742
CREATED:20260117T093154Z
LAST-MODIFIED:20260117T093154Z
UID:1000-1776594600-1776597900@vasterastiodans.se
SUMMARY:Dansteknikkurs för barn och ungdomar
DESCRIPTION:
URL:https://vasterastiodans.se/event/dansteknikkurs-for-barn-och-ungdomar-9/
LOCATION:Studiefrämjandet\, Pilgatan 8C\, Västerås\, Sweden
CATEGORIES:Kalender
END:VEVENT
BEGIN:VEVENT
DTSTART;TZID=UTC:20260419T153000
DTEND;TZID=UTC:20260419T170000
DTSTAMP:20260419T153742
CREATED:20260117T090413Z
LAST-MODIFIED:20260117T090413Z
UID:976-1776612600-1776618000@vasterastiodans.se
SUMMARY:Fri-träning/Praktik (Standard)
DESCRIPTION:I lokalen spelar vi gemensam musik\, 3 låtar för alla 5 standard danser i nästa ordning: 3 Slow Waltz\, 3 Tango\, 3 Viennese Waltz\, 3 Slow Foxtrot\, 3 Quickstep.\nDansare är fri att dansa egna danser med egen musik.
URL:https://vasterastiodans.se/event/fri-traning-praktik-standard-5/
LOCATION:Gymnastiksal 2 (Gamla)\, Rudbeckianska\, Skolgatan\, Västerås\, Sweden
CATEGORIES:Kalender
END:VEVENT
END:VCALENDAR