BEGIN:VCALENDAR
VERSION:2.0
PRODID:-//Vasteras Tiodans. Ballroom &amp; Latin - ECPv6.15.20//NONSGML v1.0//EN
CALSCALE:GREGORIAN
METHOD:PUBLISH
X-ORIGINAL-URL:https://vasterastiodans.se
X-WR-CALDESC:Händelser för Vasteras Tiodans. Ballroom &amp; Latin
REFRESH-INTERVAL;VALUE=DURATION:PT1H
X-Robots-Tag:noindex
X-PUBLISHED-TTL:PT1H
BEGIN:VTIMEZONE
TZID:UTC
BEGIN:STANDARD
TZOFFSETFROM:+0000
TZOFFSETTO:+0000
TZNAME:UTC
DTSTART:20250101T000000
END:STANDARD
END:VTIMEZONE
BEGIN:VEVENT
DTSTART;TZID=UTC:20260517T103000
DTEND;TZID=UTC:20260517T112500
DTSTAMP:20260419T215409
CREATED:20260415T053104Z
LAST-MODIFIED:20260415T053104Z
UID:1051-1779013800-1779017100@vasterastiodans.se
SUMMARY:Dansteknikkurs för barn och ungdomar
DESCRIPTION:
URL:https://vasterastiodans.se/event/dansteknikkurs-for-barn-och-ungdomar-10/
LOCATION:Studiefrämjandet\, Pilgatan 8C\, Västerås\, Sweden
CATEGORIES:Kalender
END:VEVENT
BEGIN:VEVENT
DTSTART;TZID=UTC:20260517T153000
DTEND;TZID=UTC:20260517T170000
DTSTAMP:20260419T215409
CREATED:20260415T052005Z
LAST-MODIFIED:20260415T052005Z
UID:1042-1779031800-1779037200@vasterastiodans.se
SUMMARY:Fri-träning/Praktik (Standard)
DESCRIPTION:
URL:https://vasterastiodans.se/event/fri-traning-praktik-standard-7/
LOCATION:Gymnastiksal 2 (Gamla)\, Rudbeckianska\, Skolgatan\, Västerås\, Sweden
CATEGORIES:Kalender
END:VEVENT
END:VCALENDAR