BEGIN:VCALENDAR
VERSION:2.0
PRODID:-//Vasteras Tiodans. Ballroom &amp; Latin - ECPv6.15.20//NONSGML v1.0//EN
CALSCALE:GREGORIAN
METHOD:PUBLISH
X-WR-CALNAME:Vasteras Tiodans. Ballroom &amp; Latin
X-ORIGINAL-URL:https://vasterastiodans.se
X-WR-CALDESC:Händelser för Vasteras Tiodans. Ballroom &amp; Latin
REFRESH-INTERVAL;VALUE=DURATION:PT1H
X-Robots-Tag:noindex
X-PUBLISHED-TTL:PT1H
BEGIN:VTIMEZONE
TZID:UTC
BEGIN:STANDARD
TZOFFSETFROM:+0000
TZOFFSETTO:+0000
TZNAME:UTC
DTSTART:20250101T000000
END:STANDARD
END:VTIMEZONE
BEGIN:VEVENT
DTSTART;TZID=UTC:20260423T184500
DTEND;TZID=UTC:20260423T194500
DTSTAMP:20260419T184517
CREATED:20260415T051029Z
LAST-MODIFIED:20260415T051029Z
UID:1038-1776969900-1776973500@vasterastiodans.se
SUMMARY:Fri-träning/Praktik (Latin)
DESCRIPTION:
URL:https://vasterastiodans.se/event/fri-traning-praktik-latin-3/
LOCATION:Gymnastiksal 2 (Gamla)\, Rudbeckianska\, Skolgatan\, Västerås\, Sweden
CATEGORIES:Kalender
END:VEVENT
END:VCALENDAR