BEGIN:VCALENDAR
VERSION:2.0
PRODID:-//Vasteras Tiodans. Ballroom &amp; Latin - ECPv6.15.20//NONSGML v1.0//EN
CALSCALE:GREGORIAN
METHOD:PUBLISH
X-ORIGINAL-URL:https://vasterastiodans.se
X-WR-CALDESC:Händelser för Vasteras Tiodans. Ballroom &amp; Latin
REFRESH-INTERVAL;VALUE=DURATION:PT1H
X-Robots-Tag:noindex
X-PUBLISHED-TTL:PT1H
BEGIN:VTIMEZONE
TZID:UTC
BEGIN:STANDARD
TZOFFSETFROM:+0000
TZOFFSETTO:+0000
TZNAME:UTC
DTSTART:20250101T000000
END:STANDARD
END:VTIMEZONE
BEGIN:VEVENT
DTSTART;TZID=UTC:20260402T173500
DTEND;TZID=UTC:20260402T183000
DTSTAMP:20260419T201516
CREATED:20260103T204100Z
LAST-MODIFIED:20260103T204100Z
UID:862-1775151300-1775154600@vasterastiodans.se
SUMMARY:Nybörjar grupp
DESCRIPTION:
URL:https://vasterastiodans.se/event/nyborjar-grupp-9/
LOCATION:Växhuset\, Kulturen\, Viktor Larssons plats 1\, Västerås
CATEGORIES:Kalender
END:VEVENT
BEGIN:VEVENT
DTSTART;TZID=UTC:20260402T183500
DTEND;TZID=UTC:20260402T193000
DTSTAMP:20260419T201516
CREATED:20260103T204234Z
LAST-MODIFIED:20260103T204234Z
UID:864-1775154900-1775158200@vasterastiodans.se
SUMMARY:Fortsättningsgrupp. Nivå 2
DESCRIPTION:
URL:https://vasterastiodans.se/event/fortsattningsgrupp-niva-2-9/
LOCATION:Växhuset\, Kulturen\, Viktor Larssons plats 1\, Västerås
CATEGORIES:Kalender
END:VEVENT
BEGIN:VEVENT
DTSTART;TZID=UTC:20260402T193500
DTEND;TZID=UTC:20260402T203000
DTSTAMP:20260419T201516
CREATED:20260103T204324Z
LAST-MODIFIED:20260103T204324Z
UID:866-1775158500-1775161800@vasterastiodans.se
SUMMARY:Fortsättningsgrupp. Nivå 1
DESCRIPTION:
URL:https://vasterastiodans.se/event/fortsattningsgrupp-niva-1-9/
LOCATION:Växhuset\, Kulturen\, Viktor Larssons plats 1\, Västerås
CATEGORIES:Kalender
END:VEVENT
END:VCALENDAR