BEGIN:VCALENDAR
VERSION:2.0
PRODID:-//Vasteras Tiodans. Ballroom &amp; Latin - ECPv6.15.20//NONSGML v1.0//EN
CALSCALE:GREGORIAN
METHOD:PUBLISH
X-ORIGINAL-URL:https://vasterastiodans.se
X-WR-CALDESC:Händelser för Vasteras Tiodans. Ballroom &amp; Latin
REFRESH-INTERVAL;VALUE=DURATION:PT1H
X-Robots-Tag:noindex
X-PUBLISHED-TTL:PT1H
BEGIN:VTIMEZONE
TZID:UTC
BEGIN:STANDARD
TZOFFSETFROM:+0000
TZOFFSETTO:+0000
TZNAME:UTC
DTSTART:20250101T000000
END:STANDARD
END:VTIMEZONE
BEGIN:VEVENT
DTSTART;TZID=UTC:20260315T103000
DTEND;TZID=UTC:20260315T112500
DTSTAMP:20260419T215536
CREATED:20260304T151230Z
LAST-MODIFIED:20260304T151230Z
UID:1027-1773570600-1773573900@vasterastiodans.se
SUMMARY:Dansteknikkurs för barn och ungdomar
DESCRIPTION:
URL:https://vasterastiodans.se/event/dansteknikkurs-for-barn-och-ungdomar-8/
LOCATION:Studiefrämjandet\, Pilgatan 8C\, Västerås\, Sweden
CATEGORIES:Kalender
END:VEVENT
BEGIN:VEVENT
DTSTART;TZID=UTC:20260315T153000
DTEND;TZID=UTC:20260315T170000
DTSTAMP:20260419T215536
CREATED:20260117T085504Z
LAST-MODIFIED:20260117T085504Z
UID:970-1773588600-1773594000@vasterastiodans.se
SUMMARY:Fri-träning/Praktik (Latin)
DESCRIPTION:I lokalen spelar vi gemensam musik\, 3 låtar för 4 latin danser i nästa ordning: 3 Samba\, 3 Cha-cha\, 3 Rumba\, 3 Jive.\nDansare är fri att dansa egna danser med egen musik.
URL:https://vasterastiodans.se/event/fri-traning-praktik-latin-4/
LOCATION:Gymnastiksal 2 (Gamla)\, Rudbeckianska\, Skolgatan\, Västerås\, Sweden
CATEGORIES:Kalender
END:VEVENT
END:VCALENDAR