BEGIN:VCALENDAR
VERSION:2.0
PRODID:-//Vasteras Tiodans. Ballroom &amp; Latin - ECPv6.15.20//NONSGML v1.0//EN
CALSCALE:GREGORIAN
METHOD:PUBLISH
X-WR-CALNAME:Vasteras Tiodans. Ballroom &amp; Latin
X-ORIGINAL-URL:https://vasterastiodans.se
X-WR-CALDESC:Händelser för Vasteras Tiodans. Ballroom &amp; Latin
REFRESH-INTERVAL;VALUE=DURATION:PT1H
X-Robots-Tag:noindex
X-PUBLISHED-TTL:PT1H
BEGIN:VTIMEZONE
TZID:UTC
BEGIN:STANDARD
TZOFFSETFROM:+0000
TZOFFSETTO:+0000
TZNAME:UTC
DTSTART:20250101T000000
END:STANDARD
END:VTIMEZONE
BEGIN:VEVENT
DTSTART;TZID=UTC:20260312T173500
DTEND;TZID=UTC:20260312T183000
DTSTAMP:20260419T215122
CREATED:20260103T203116Z
LAST-MODIFIED:20260103T203116Z
UID:844-1773336900-1773340200@vasterastiodans.se
SUMMARY:Nybörjar grupp
DESCRIPTION:
URL:https://vasterastiodans.se/event/nyborjar-grupp-6/
LOCATION:Växhuset\, Kulturen\, Viktor Larssons plats 1\, Västerås
CATEGORIES:Kalender
END:VEVENT
BEGIN:VEVENT
DTSTART;TZID=UTC:20260312T183500
DTEND;TZID=UTC:20260312T193000
DTSTAMP:20260419T215122
CREATED:20260103T203150Z
LAST-MODIFIED:20260103T203150Z
UID:846-1773340500-1773343800@vasterastiodans.se
SUMMARY:Fortsättningsgrupp. Nivå 2
DESCRIPTION:
URL:https://vasterastiodans.se/event/fortsattningsgrupp-niva-2-6/
LOCATION:Växhuset\, Kulturen\, Viktor Larssons plats 1\, Västerås
CATEGORIES:Kalender
END:VEVENT
BEGIN:VEVENT
DTSTART;TZID=UTC:20260312T193500
DTEND;TZID=UTC:20260312T203000
DTSTAMP:20260419T215122
CREATED:20260103T203222Z
LAST-MODIFIED:20260103T203222Z
UID:848-1773344100-1773347400@vasterastiodans.se
SUMMARY:Fortsättningsgrupp. Nivå 1
DESCRIPTION:
URL:https://vasterastiodans.se/event/fortsattningsgrupp-niva-1-6/
LOCATION:Växhuset\, Kulturen\, Viktor Larssons plats 1\, Västerås
CATEGORIES:Kalender
END:VEVENT
END:VCALENDAR