BEGIN:VCALENDAR
VERSION:2.0
PRODID:-//Vasteras Tiodans. Ballroom &amp; Latin - ECPv6.15.20//NONSGML v1.0//EN
CALSCALE:GREGORIAN
METHOD:PUBLISH
X-ORIGINAL-URL:https://vasterastiodans.se
X-WR-CALDESC:Händelser för Vasteras Tiodans. Ballroom &amp; Latin
REFRESH-INTERVAL;VALUE=DURATION:PT1H
X-Robots-Tag:noindex
X-PUBLISHED-TTL:PT1H
BEGIN:VTIMEZONE
TZID:UTC
BEGIN:STANDARD
TZOFFSETFROM:+0000
TZOFFSETTO:+0000
TZNAME:UTC
DTSTART:20250101T000000
END:STANDARD
END:VTIMEZONE
BEGIN:VEVENT
DTSTART;TZID=UTC:20260305T173500
DTEND;TZID=UTC:20260305T183000
DTSTAMP:20260419T215458
CREATED:20260103T202929Z
LAST-MODIFIED:20260103T202929Z
UID:838-1772732100-1772735400@vasterastiodans.se
SUMMARY:Nybörjar grupp
DESCRIPTION:
URL:https://vasterastiodans.se/event/nyborjar-grupp-5/
LOCATION:Växhuset\, Kulturen\, Viktor Larssons plats 1\, Västerås
CATEGORIES:Kalender
END:VEVENT
BEGIN:VEVENT
DTSTART;TZID=UTC:20260305T183500
DTEND;TZID=UTC:20260305T193000
DTSTAMP:20260419T215458
CREATED:20260103T202959Z
LAST-MODIFIED:20260103T202959Z
UID:840-1772735700-1772739000@vasterastiodans.se
SUMMARY:Fortsättningsgrupp. Nivå 2
DESCRIPTION:
URL:https://vasterastiodans.se/event/fortsattningsgrupp-niva-2-5/
LOCATION:Växhuset\, Kulturen\, Viktor Larssons plats 1\, Västerås
CATEGORIES:Kalender
END:VEVENT
BEGIN:VEVENT
DTSTART;TZID=UTC:20260305T193500
DTEND;TZID=UTC:20260305T203000
DTSTAMP:20260419T215458
CREATED:20260103T203028Z
LAST-MODIFIED:20260103T203028Z
UID:842-1772739300-1772742600@vasterastiodans.se
SUMMARY:Fortsättningsgrupp. Nivå 1
DESCRIPTION:
URL:https://vasterastiodans.se/event/fortsattningsgrupp-niva-1-5/
LOCATION:Växhuset\, Kulturen\, Viktor Larssons plats 1\, Västerås
CATEGORIES:Kalender
END:VEVENT
END:VCALENDAR