BEGIN:VCALENDAR
VERSION:2.0
PRODID:-//Vasteras Tiodans. Ballroom &amp; Latin - ECPv6.15.20//NONSGML v1.0//EN
CALSCALE:GREGORIAN
METHOD:PUBLISH
X-WR-CALNAME:Vasteras Tiodans. Ballroom &amp; Latin
X-ORIGINAL-URL:https://vasterastiodans.se
X-WR-CALDESC:Händelser för Vasteras Tiodans. Ballroom &amp; Latin
REFRESH-INTERVAL;VALUE=DURATION:PT1H
X-Robots-Tag:noindex
X-PUBLISHED-TTL:PT1H
BEGIN:VTIMEZONE
TZID:UTC
BEGIN:STANDARD
TZOFFSETFROM:+0000
TZOFFSETTO:+0000
TZNAME:UTC
DTSTART:20250101T000000
END:STANDARD
END:VTIMEZONE
BEGIN:VEVENT
DTSTART;TZID=UTC:20260220T195000
DTEND;TZID=UTC:20260220T204500
DTSTAMP:20260419T231109
CREATED:20260103T210257Z
LAST-MODIFIED:20260103T210257Z
UID:887-1771617000-1771620300@vasterastiodans.se
SUMMARY:Fortsättning grupp
DESCRIPTION:
URL:https://vasterastiodans.se/event/fortsattning-grupp-4/
LOCATION:Aerobicshallen\, Västerås\, Sångargatan 1\, Västerås
CATEGORIES:Kalender
END:VEVENT
END:VCALENDAR