BEGIN:VCALENDAR
VERSION:2.0
PRODID:-//Vasteras Tiodans. Ballroom &amp; Latin - ECPv6.15.20//NONSGML v1.0//EN
CALSCALE:GREGORIAN
METHOD:PUBLISH
X-WR-CALNAME:Vasteras Tiodans. Ballroom &amp; Latin
X-ORIGINAL-URL:https://vasterastiodans.se
X-WR-CALDESC:Händelser för Vasteras Tiodans. Ballroom &amp; Latin
REFRESH-INTERVAL;VALUE=DURATION:PT1H
X-Robots-Tag:noindex
X-PUBLISHED-TTL:PT1H
BEGIN:VTIMEZONE
TZID:UTC
BEGIN:STANDARD
TZOFFSETFROM:+0000
TZOFFSETTO:+0000
TZNAME:UTC
DTSTART:20250101T000000
END:STANDARD
END:VTIMEZONE
BEGIN:VEVENT
DTSTART;TZID=UTC:20260212T173500
DTEND;TZID=UTC:20260212T183000
DTSTAMP:20260419T231140
CREATED:20260103T202426Z
LAST-MODIFIED:20260103T202426Z
UID:826-1770917700-1770921000@vasterastiodans.se
SUMMARY:Nybörjar grupp
DESCRIPTION:
URL:https://vasterastiodans.se/event/nyborjar-grupp-3/
LOCATION:Växhuset\, Kulturen\, Viktor Larssons plats 1\, Västerås
CATEGORIES:Kalender
END:VEVENT
BEGIN:VEVENT
DTSTART;TZID=UTC:20260212T183500
DTEND;TZID=UTC:20260212T193000
DTSTAMP:20260419T231140
CREATED:20260103T202507Z
LAST-MODIFIED:20260103T202507Z
UID:828-1770921300-1770924600@vasterastiodans.se
SUMMARY:Fortsättningsgrupp. Nivå 2
DESCRIPTION:
URL:https://vasterastiodans.se/event/fortsattningsgrupp-niva-2-3/
LOCATION:Växhuset\, Kulturen\, Viktor Larssons plats 1\, Västerås
CATEGORIES:Kalender
END:VEVENT
BEGIN:VEVENT
DTSTART;TZID=UTC:20260212T193500
DTEND;TZID=UTC:20260212T203000
DTSTAMP:20260419T231140
CREATED:20260103T202541Z
LAST-MODIFIED:20260103T202541Z
UID:830-1770924900-1770928200@vasterastiodans.se
SUMMARY:Fortsättningsgrupp. Nivå 1
DESCRIPTION:
URL:https://vasterastiodans.se/event/fortsattningsgrupp-niva-1-3/
LOCATION:Växhuset\, Kulturen\, Viktor Larssons plats 1\, Västerås
CATEGORIES:Kalender
END:VEVENT
END:VCALENDAR