BEGIN:VCALENDAR
VERSION:2.0
PRODID:-//Vasteras Tiodans. Ballroom &amp; Latin - ECPv6.15.20//NONSGML v1.0//EN
CALSCALE:GREGORIAN
METHOD:PUBLISH
X-WR-CALNAME:Vasteras Tiodans. Ballroom &amp; Latin
X-ORIGINAL-URL:https://vasterastiodans.se
X-WR-CALDESC:Händelser för Vasteras Tiodans. Ballroom &amp; Latin
REFRESH-INTERVAL;VALUE=DURATION:PT1H
X-Robots-Tag:noindex
X-PUBLISHED-TTL:PT1H
BEGIN:VTIMEZONE
TZID:UTC
BEGIN:STANDARD
TZOFFSETFROM:+0000
TZOFFSETTO:+0000
TZNAME:UTC
DTSTART:20250101T000000
END:STANDARD
END:VTIMEZONE
BEGIN:VEVENT
DTSTART;TZID=UTC:20260205T173500
DTEND;TZID=UTC:20260205T183000
DTSTAMP:20260419T231107
CREATED:20260103T200330Z
LAST-MODIFIED:20260103T200330Z
UID:818-1770312900-1770316200@vasterastiodans.se
SUMMARY:Nybörjar grupp
DESCRIPTION:
URL:https://vasterastiodans.se/event/nyborjar-grupp-2/
LOCATION:Växhuset\, Kulturen\, Viktor Larssons plats 1\, Västerås
CATEGORIES:Kalender
END:VEVENT
BEGIN:VEVENT
DTSTART;TZID=UTC:20260205T183500
DTEND;TZID=UTC:20260205T193000
DTSTAMP:20260419T231107
CREATED:20260103T200408Z
LAST-MODIFIED:20260103T200408Z
UID:820-1770316500-1770319800@vasterastiodans.se
SUMMARY:Fortsättningsgrupp. Nivå 2
DESCRIPTION:
URL:https://vasterastiodans.se/event/fortsattningsgrupp-niva-2-2/
LOCATION:Växhuset\, Kulturen\, Viktor Larssons plats 1\, Västerås
CATEGORIES:Kalender
END:VEVENT
BEGIN:VEVENT
DTSTART;TZID=UTC:20260205T193500
DTEND;TZID=UTC:20260205T203000
DTSTAMP:20260419T231107
CREATED:20260103T200829Z
LAST-MODIFIED:20260103T200829Z
UID:824-1770320100-1770323400@vasterastiodans.se
SUMMARY:Fortsättningsgrupp. Nivå 1
DESCRIPTION:
URL:https://vasterastiodans.se/event/fortsattningsgrupp-niva-1-2/
LOCATION:Växhuset\, Kulturen\, Viktor Larssons plats 1\, Västerås
CATEGORIES:Kalender
END:VEVENT
END:VCALENDAR