BEGIN:VCALENDAR
VERSION:2.0
PRODID:-//Vasteras Tiodans. Ballroom &amp; Latin - ECPv6.15.20//NONSGML v1.0//EN
CALSCALE:GREGORIAN
METHOD:PUBLISH
X-WR-CALNAME:Vasteras Tiodans. Ballroom &amp; Latin
X-ORIGINAL-URL:https://vasterastiodans.se
X-WR-CALDESC:Händelser för Vasteras Tiodans. Ballroom &amp; Latin
REFRESH-INTERVAL;VALUE=DURATION:PT1H
X-Robots-Tag:noindex
X-PUBLISHED-TTL:PT1H
BEGIN:VTIMEZONE
TZID:UTC
BEGIN:STANDARD
TZOFFSETFROM:+0000
TZOFFSETTO:+0000
TZNAME:UTC
DTSTART:20250101T000000
END:STANDARD
END:VTIMEZONE
BEGIN:VEVENT
DTSTART;TZID=UTC:20260111T103000
DTEND;TZID=UTC:20260111T112500
DTSTAMP:20260420T015904
CREATED:20260117T091030Z
LAST-MODIFIED:20260117T091030Z
UID:982-1768127400-1768130700@vasterastiodans.se
SUMMARY:Dansteknikkurs för barn och ungdomar
DESCRIPTION:
URL:https://vasterastiodans.se/event/dansteknikkurs-for-barn-och-ungdomar/
LOCATION:Studiefrämjandet\, Pilgatan 8C\, Västerås\, Sweden
CATEGORIES:Kalender
END:VEVENT
END:VCALENDAR