BEGIN:VCALENDAR
VERSION:2.0
PRODID:-//Vasteras Tiodans. Ballroom &amp; Latin - ECPv6.15.20//NONSGML v1.0//EN
CALSCALE:GREGORIAN
METHOD:PUBLISH
X-WR-CALNAME:Vasteras Tiodans. Ballroom &amp; Latin
X-ORIGINAL-URL:https://vasterastiodans.se
X-WR-CALDESC:Händelser för Vasteras Tiodans. Ballroom &amp; Latin
REFRESH-INTERVAL;VALUE=DURATION:PT1H
X-Robots-Tag:noindex
X-PUBLISHED-TTL:PT1H
BEGIN:VTIMEZONE
TZID:UTC
BEGIN:STANDARD
TZOFFSETFROM:+0000
TZOFFSETTO:+0000
TZNAME:UTC
DTSTART:20250101T000000
END:STANDARD
END:VTIMEZONE
BEGIN:VEVENT
DTSTART;TZID=UTC:20260111T103000
DTEND;TZID=UTC:20260111T112500
DTSTAMP:20260419T230854
CREATED:20260117T091030Z
LAST-MODIFIED:20260117T091030Z
UID:982-1768127400-1768130700@vasterastiodans.se
SUMMARY:Dansteknikkurs för barn och ungdomar
DESCRIPTION:
URL:https://vasterastiodans.se/event/dansteknikkurs-for-barn-och-ungdomar/
LOCATION:Studiefrämjandet\, Pilgatan 8C\, Västerås\, Sweden
CATEGORIES:Kalender
END:VEVENT
BEGIN:VEVENT
DTSTART;TZID=UTC:20260118T103000
DTEND;TZID=UTC:20260118T112500
DTSTAMP:20260419T230854
CREATED:20260117T091204Z
LAST-MODIFIED:20260117T091204Z
UID:984-1768732200-1768735500@vasterastiodans.se
SUMMARY:Dansteknikkurs för barn och ungdomar
DESCRIPTION:
URL:https://vasterastiodans.se/event/dansteknikkurs-for-barn-och-ungdomar-2/
LOCATION:Studiefrämjandet\, Pilgatan 8C\, Västerås\, Sweden
CATEGORIES:Kalender
END:VEVENT
BEGIN:VEVENT
DTSTART;TZID=UTC:20260118T153000
DTEND;TZID=UTC:20260118T170000
DTSTAMP:20260419T230854
CREATED:20260117T083745Z
LAST-MODIFIED:20260117T083745Z
UID:954-1768750200-1768755600@vasterastiodans.se
SUMMARY:Fri-träning/Praktik (Standard)
DESCRIPTION:I lokalen spelar vi gemensam musik\, 3 låtar för alla 5 standard danser i nästa ordning: 3 Slow Waltz\, 3 Tango\, 3 Viennese Waltz\, 3 Slow Foxtrot\, 3 Quickstep.\nDansare är fri att dansa egna danser med egen musik.
URL:https://vasterastiodans.se/event/fri-traning-praktik-standard/
LOCATION:Gymnastiksal 2 (Gamla)\, Rudbeckianska\, Skolgatan\, Västerås\, Sweden
CATEGORIES:Kalender
END:VEVENT
BEGIN:VEVENT
DTSTART;TZID=UTC:20260122T173500
DTEND;TZID=UTC:20260122T183000
DTSTAMP:20260419T230854
CREATED:20260103T193828Z
LAST-MODIFIED:20260103T193828Z
UID:805-1769103300-1769106600@vasterastiodans.se
SUMMARY:Nybörjar grupp
DESCRIPTION:
URL:https://vasterastiodans.se/event/nyborjar-grupp-13/
LOCATION:Växhuset\, Kulturen\, Viktor Larssons plats 1\, Västerås
CATEGORIES:Kalender
END:VEVENT
BEGIN:VEVENT
DTSTART;TZID=UTC:20260122T183500
DTEND;TZID=UTC:20260122T193000
DTSTAMP:20260419T230854
CREATED:20260103T193936Z
LAST-MODIFIED:20260103T193936Z
UID:807-1769106900-1769110200@vasterastiodans.se
SUMMARY:Fortsättningsgrupp. Nivå 2
DESCRIPTION:
URL:https://vasterastiodans.se/event/fortsattningsgrupp-niva-2-13/
LOCATION:Växhuset\, Kulturen\, Viktor Larssons plats 1\, Västerås
CATEGORIES:Kalender
END:VEVENT
BEGIN:VEVENT
DTSTART;TZID=UTC:20260122T193500
DTEND;TZID=UTC:20260122T203000
DTSTAMP:20260419T230854
CREATED:20260103T194007Z
LAST-MODIFIED:20260103T194007Z
UID:809-1769110500-1769113800@vasterastiodans.se
SUMMARY:Fortsättningsgrupp. Nivå 1
DESCRIPTION:
URL:https://vasterastiodans.se/event/fortsattningsgrupp-niva-1-13/
LOCATION:Växhuset\, Kulturen\, Viktor Larssons plats 1\, Västerås
CATEGORIES:Kalender
END:VEVENT
BEGIN:VEVENT
DTSTART;TZID=UTC:20260129T173500
DTEND;TZID=UTC:20260129T183000
DTSTAMP:20260419T230854
CREATED:20260103T200126Z
LAST-MODIFIED:20260103T200126Z
UID:812-1769708100-1769711400@vasterastiodans.se
SUMMARY:Nybörjar grupp
DESCRIPTION:
URL:https://vasterastiodans.se/event/nyborjar-grupp/
LOCATION:Växhuset\, Kulturen\, Viktor Larssons plats 1\, Västerås
CATEGORIES:Kalender
END:VEVENT
BEGIN:VEVENT
DTSTART;TZID=UTC:20260129T183500
DTEND;TZID=UTC:20260129T193000
DTSTAMP:20260419T230854
CREATED:20260103T200200Z
LAST-MODIFIED:20260103T200200Z
UID:814-1769711700-1769715000@vasterastiodans.se
SUMMARY:Fortsättningsgrupp. Nivå 2
DESCRIPTION:
URL:https://vasterastiodans.se/event/fortsattningsgrupp-niva-2/
LOCATION:Växhuset\, Kulturen\, Viktor Larssons plats 1\, Västerås
CATEGORIES:Kalender
END:VEVENT
BEGIN:VEVENT
DTSTART;TZID=UTC:20260129T193500
DTEND;TZID=UTC:20260129T203000
DTSTAMP:20260419T230854
CREATED:20260103T200231Z
LAST-MODIFIED:20260103T200231Z
UID:816-1769715300-1769718600@vasterastiodans.se
SUMMARY:Fortsättningsgrupp. Nivå 1
DESCRIPTION:
URL:https://vasterastiodans.se/event/fortsattningsgrupp-niva-1/
LOCATION:Växhuset\, Kulturen\, Viktor Larssons plats 1\, Västerås
CATEGORIES:Kalender
END:VEVENT
BEGIN:VEVENT
DTSTART;TZID=UTC:20260130T195000
DTEND;TZID=UTC:20260130T204500
DTSTAMP:20260419T230854
CREATED:20260103T205836Z
LAST-MODIFIED:20260103T205836Z
UID:881-1769802600-1769805900@vasterastiodans.se
SUMMARY:Fortsättning grupp
DESCRIPTION:
URL:https://vasterastiodans.se/event/fortsattning-grupp/
LOCATION:Aerobicshallen\, Västerås\, Sångargatan 1\, Västerås
CATEGORIES:Kalender
END:VEVENT
END:VCALENDAR